<?xml version="1.0" encoding="utf-8"?>
<Capabilities xmlns:ows="http://www.opengis.net/ows/1.1" xmlns:xlink="http://www.w3.org/1999/xlink" xmlns:xsi="http://www.w3.org/2001/XMLSchema-instance" version="1.0.0" xsi:schemaLocation="http://www.opengis.net/wmts/1.0 http://schemas.opengis.net/wmts/1.0/wmtsGetCapabilities_response.xsd" xmlns="http://www.opengis.net/wmts/1.0">
  <ows:ServiceIdentification>
    <ows:Title>basemap.at</ows:Title>
    <ows:Abstract>OeRect_01m_ht_3857_aus_gm221.mbtiles</ows:Abstract>
    <ows:Keywords>
      <ows:Keyword>WMTS</ows:Keyword>
      <ows:Keyword>Tiles</ows:Keyword>
      <ows:Keyword>Basemap</ows:Keyword>
      <ows:Keyword>EPSG:3857</ows:Keyword>
    </ows:Keywords>
    <ows:ServiceType>OGC WMTS</ows:ServiceType>
    <ows:ServiceTypeVersion>1.0.0</ows:ServiceTypeVersion>
    <ows:Fees>none</ows:Fees>
    <ows:AccessConstraints>none</ows:AccessConstraints>
  </ows:ServiceIdentification>
  <ows:ServiceProvider>
    <ows:ProviderName>City of Vienna</ows:ProviderName>
    <ows:ProviderSite xlink:href="https://www.wien.gv.at/viennagis" />
    <ows:ServiceContact>
      <ows:ContactInfo>
        <ows:Address>
          <ows:City>Vienna</ows:City>
          <ows:Country>Austria</ows:Country>
          <ows:ElectronicMailAddress>viennagis@post.wien.gv.at</ows:ElectronicMailAddress>
        </ows:Address>
      </ows:ContactInfo>
    </ows:ServiceContact>
  </ows:ServiceProvider>
  <ows:OperationsMetadata>
    <ows:Operation name="GetCapabilities">
      <ows:DCP>
        <ows:HTTP>
          <ows:Get xlink:href="https://basemap.bergwerk-gis.at/basemap-download/webapp/api/tilesets/bmap_ht">
            <ows:Constraint name="GetEncoding">
              <ows:AllowedValues>
                <ows:Value>RESTful</ows:Value>
              </ows:AllowedValues>
            </ows:Constraint>
          </ows:Get>
        </ows:HTTP>
      </ows:DCP>
    </ows:Operation>
    <ows:Operation name="GetTile">
      <ows:DCP>
        <ows:HTTP>
          <ows:Get xlink:href="https://basemap.bergwerk-gis.at/basemap-download/webapp/api/tilesets/bmap_ht">
            <ows:Constraint name="GetEncoding">
              <ows:AllowedValues>
                <ows:Value>RESTful</ows:Value>
              </ows:AllowedValues>
            </ows:Constraint>
          </ows:Get>
        </ows:HTTP>
      </ows:DCP>
    </ows:Operation>
  </ows:OperationsMetadata>
  <Contents>
    <Layer>
      <ows:Title>bmap_ht</ows:Title>
      <ows:Abstract>WMTS layer for bmap_ht.</ows:Abstract>
      <ows:Identifier>bmap_ht</ows:Identifier>
      <ows:WGS84BoundingBox>
        <ows:LowerCorner>-180 -85.05112878</ows:LowerCorner>
        <ows:UpperCorner>180 85.05112878</ows:UpperCorner>
      </ows:WGS84BoundingBox>
      <Style isDefault="true">
        <ows:Identifier>default</ows:Identifier>
        <ows:Title>Default Style</ows:Title>
      </Style>
      <Format>image/jpg</Format>
      <ResourceURL format="image/jpg" resourceType="tile" template="https://basemap.bergwerk-gis.at/basemap-download/webapp/api/tiles/bmap_ht/wmts/{Style}/{TileMatrixSet}/{TileMatrix}/{TileRow}/{TileCol}.jpg" />
      <TileMatrixSetLink>
        <TileMatrixSet>GoogleMapsCompatible</TileMatrixSet>
      </TileMatrixSetLink>
    </Layer>
    <TileMatrixSet>
      <ows:Identifier>GoogleMapsCompatible</ows:Identifier>
      <ows:SupportedCRS>urn:ogc:def:crs:EPSG::3857</ows:SupportedCRS>
      <WellKnownScaleSet>urn:ogc:def:wkss:OGC:1.0:GoogleMapsCompatible</WellKnownScaleSet>
      <TileMatrix>
        <ows:Identifier>0</ows:Identifier>
        <ScaleDenominator>559082264.028718</ScaleDenominator>
        <TopLeftCorner>-20037508.3427892 20037508.3427892</TopLeftCorner>
        <TileWidth>256</TileWidth>
        <TileHeight>256</TileHeight>
        <MatrixWidth>1</MatrixWidth>
        <MatrixHeight>1</MatrixHeight>
      </TileMatrix>
      <TileMatrix>
        <ows:Identifier>1</ows:Identifier>
        <ScaleDenominator>279541132.014359</ScaleDenominator>
        <TopLeftCorner>-20037508.3427892 20037508.3427892</TopLeftCorner>
        <TileWidth>256</TileWidth>
        <TileHeight>256</TileHeight>
        <MatrixWidth>2</MatrixWidth>
        <MatrixHeight>2</MatrixHeight>
      </TileMatrix>
      <TileMatrix>
        <ows:Identifier>2</ows:Identifier>
        <ScaleDenominator>139770566.007179</ScaleDenominator>
        <TopLeftCorner>-20037508.3427892 20037508.3427892</TopLeftCorner>
        <TileWidth>256</TileWidth>
        <TileHeight>256</TileHeight>
        <MatrixWidth>4</MatrixWidth>
        <MatrixHeight>4</MatrixHeight>
      </TileMatrix>
      <TileMatrix>
        <ows:Identifier>3</ows:Identifier>
        <ScaleDenominator>69885283.0035897</ScaleDenominator>
        <TopLeftCorner>-20037508.3427892 20037508.3427892</TopLeftCorner>
        <TileWidth>256</TileWidth>
        <TileHeight>256</TileHeight>
        <MatrixWidth>8</MatrixWidth>
        <MatrixHeight>8</MatrixHeight>
      </TileMatrix>
      <TileMatrix>
        <ows:Identifier>4</ows:Identifier>
        <ScaleDenominator>34942641.5017949</ScaleDenominator>
        <TopLeftCorner>-20037508.3427892 20037508.3427892</TopLeftCorner>
        <TileWidth>256</TileWidth>
        <TileHeight>256</TileHeight>
        <MatrixWidth>16</MatrixWidth>
        <MatrixHeight>16</MatrixHeight>
      </TileMatrix>
      <TileMatrix>
        <ows:Identifier>5</ows:Identifier>
        <ScaleDenominator>17471320.7508974</ScaleDenominator>
        <TopLeftCorner>-20037508.3427892 20037508.3427892</TopLeftCorner>
        <TileWidth>256</TileWidth>
        <TileHeight>256</TileHeight>
        <MatrixWidth>32</MatrixWidth>
        <MatrixHeight>32</MatrixHeight>
      </TileMatrix>
      <TileMatrix>
        <ows:Identifier>6</ows:Identifier>
        <ScaleDenominator>8735660.37544871</ScaleDenominator>
        <TopLeftCorner>-20037508.3427892 20037508.3427892</TopLeftCorner>
        <TileWidth>256</TileWidth>
        <TileHeight>256</TileHeight>
        <MatrixWidth>64</MatrixWidth>
        <MatrixHeight>64</MatrixHeight>
      </TileMatrix>
      <TileMatrix>
        <ows:Identifier>7</ows:Identifier>
        <ScaleDenominator>4367830.18772436</ScaleDenominator>
        <TopLeftCorner>-20037508.3427892 20037508.3427892</TopLeftCorner>
        <TileWidth>256</TileWidth>
        <TileHeight>256</TileHeight>
        <MatrixWidth>128</MatrixWidth>
        <MatrixHeight>128</MatrixHeight>
      </TileMatrix>
      <TileMatrix>
        <ows:Identifier>8</ows:Identifier>
        <ScaleDenominator>2183915.09386218</ScaleDenominator>
        <TopLeftCorner>-20037508.3427892 20037508.3427892</TopLeftCorner>
        <TileWidth>256</TileWidth>
        <TileHeight>256</TileHeight>
        <MatrixWidth>256</MatrixWidth>
        <MatrixHeight>256</MatrixHeight>
      </TileMatrix>
      <TileMatrix>
        <ows:Identifier>9</ows:Identifier>
        <ScaleDenominator>1091957.54693109</ScaleDenominator>
        <TopLeftCorner>-20037508.3427892 20037508.3427892</TopLeftCorner>
        <TileWidth>256</TileWidth>
        <TileHeight>256</TileHeight>
        <MatrixWidth>512</MatrixWidth>
        <MatrixHeight>512</MatrixHeight>
      </TileMatrix>
      <TileMatrix>
        <ows:Identifier>10</ows:Identifier>
        <ScaleDenominator>545978.773465545</ScaleDenominator>
        <TopLeftCorner>-20037508.3427892 20037508.3427892</TopLeftCorner>
        <TileWidth>256</TileWidth>
        <TileHeight>256</TileHeight>
        <MatrixWidth>1024</MatrixWidth>
        <MatrixHeight>1024</MatrixHeight>
      </TileMatrix>
      <TileMatrix>
        <ows:Identifier>11</ows:Identifier>
        <ScaleDenominator>272989.386732772</ScaleDenominator>
        <TopLeftCorner>-20037508.3427892 20037508.3427892</TopLeftCorner>
        <TileWidth>256</TileWidth>
        <TileHeight>256</TileHeight>
        <MatrixWidth>2048</MatrixWidth>
        <MatrixHeight>2048</MatrixHeight>
      </TileMatrix>
      <TileMatrix>
        <ows:Identifier>12</ows:Identifier>
        <ScaleDenominator>136494.693366386</ScaleDenominator>
        <TopLeftCorner>-20037508.3427892 20037508.3427892</TopLeftCorner>
        <TileWidth>256</TileWidth>
        <TileHeight>256</TileHeight>
        <MatrixWidth>4096</MatrixWidth>
        <MatrixHeight>4096</MatrixHeight>
      </TileMatrix>
      <TileMatrix>
        <ows:Identifier>13</ows:Identifier>
        <ScaleDenominator>68247.3466831931</ScaleDenominator>
        <TopLeftCorner>-20037508.3427892 20037508.3427892</TopLeftCorner>
        <TileWidth>256</TileWidth>
        <TileHeight>256</TileHeight>
        <MatrixWidth>8192</MatrixWidth>
        <MatrixHeight>8192</MatrixHeight>
      </TileMatrix>
      <TileMatrix>
        <ows:Identifier>14</ows:Identifier>
        <ScaleDenominator>34123.6733415965</ScaleDenominator>
        <TopLeftCorner>-20037508.3427892 20037508.3427892</TopLeftCorner>
        <TileWidth>256</TileWidth>
        <TileHeight>256</TileHeight>
        <MatrixWidth>16384</MatrixWidth>
        <MatrixHeight>16384</MatrixHeight>
      </TileMatrix>
      <TileMatrix>
        <ows:Identifier>15</ows:Identifier>
        <ScaleDenominator>17061.8366707983</ScaleDenominator>
        <TopLeftCorner>-20037508.3427892 20037508.3427892</TopLeftCorner>
        <TileWidth>256</TileWidth>
        <TileHeight>256</TileHeight>
        <MatrixWidth>32768</MatrixWidth>
        <MatrixHeight>32768</MatrixHeight>
      </TileMatrix>
      <TileMatrix>
        <ows:Identifier>16</ows:Identifier>
        <ScaleDenominator>8530.91833539914</ScaleDenominator>
        <TopLeftCorner>-20037508.3427892 20037508.3427892</TopLeftCorner>
        <TileWidth>256</TileWidth>
        <TileHeight>256</TileHeight>
        <MatrixWidth>65536</MatrixWidth>
        <MatrixHeight>65536</MatrixHeight>
      </TileMatrix>
      <TileMatrix>
        <ows:Identifier>17</ows:Identifier>
        <ScaleDenominator>4265.45916769957</ScaleDenominator>
        <TopLeftCorner>-20037508.3427892 20037508.3427892</TopLeftCorner>
        <TileWidth>256</TileWidth>
        <TileHeight>256</TileHeight>
        <MatrixWidth>131072</MatrixWidth>
        <MatrixHeight>131072</MatrixHeight>
      </TileMatrix>
    </TileMatrixSet>
  </Contents>
  <ServiceMetadataURL xlink:href="https://basemap.bergwerk-gis.at/basemap-download/webapp/api/tilesets/bmap_ht/1.0.0/WMTSCapabilities.xml" />
</Capabilities>